BEGIN:VCALENDAR
VERSION:2.0
PRODID:-//Community Music Center of Boston - ECPv6.15.20//NONSGML v1.0//EN
CALSCALE:GREGORIAN
METHOD:PUBLISH
X-ORIGINAL-URL:https://cmcb.org
X-WR-CALDESC:Events for Community Music Center of Boston
REFRESH-INTERVAL;VALUE=DURATION:PT1H
X-Robots-Tag:noindex
X-PUBLISHED-TTL:PT1H
BEGIN:VTIMEZONE
TZID:UTC
BEGIN:STANDARD
TZOFFSETFROM:+0000
TZOFFSETTO:+0000
TZNAME:UTC
DTSTART:20190101T000000
END:STANDARD
END:VTIMEZONE
BEGIN:VEVENT
DTSTART;TZID=UTC:20220517T170000
DTEND;TZID=UTC:20220517T180000
DTSTAMP:20260419T130102
CREATED:20210916T213025Z
LAST-MODIFIED:20210916T213025Z
UID:10351-1652806800-1652810400@cmcb.org
SUMMARY:ECH Spring Culminating Event
DESCRIPTION:ECH Spring Culminating Events\nMonday: May 16\, 5-6PM\nTuesday: May 17\, 5-6PM\nWednesday: May 18\, 5-6PM \nSpring Voice Recital: Sun May 22 – 2PM
URL:https://cmcb.org/event/ech-spring-culminating-event/
LOCATION:Community Music Center of Boston\, 34 Warren Ave\, Boston\, MA\, 02116\, United States
CATEGORIES:Community Music School,Recitals/Workshops
END:VEVENT
BEGIN:VEVENT
DTSTART;TZID=UTC:20220516T170000
DTEND;TZID=UTC:20220516T180000
DTSTAMP:20260419T130102
CREATED:20210916T212932Z
LAST-MODIFIED:20210916T212932Z
UID:10350-1652720400-1652724000@cmcb.org
SUMMARY:ECH Spring Culminating Events
DESCRIPTION:ECH Spring Culminating Events\nMonday: May 16\, 5-6PM\nTuesday: May 17\, 5-6PM\nWednesday: May 18\, 5-6PM \nSpring Voice Recital: Sun May 22 – 2PM
URL:https://cmcb.org/event/ech-spring-culminating-events/
LOCATION:Community Music Center of Boston\, 34 Warren Ave\, Boston\, MA\, 02116\, United States
CATEGORIES:Community Music School,Recitals/Workshops
END:VEVENT
BEGIN:VEVENT
DTSTART;TZID=UTC:20220216T173000
DTEND;TZID=UTC:20220216T193000
DTSTAMP:20260419T130102
CREATED:20210916T212834Z
LAST-MODIFIED:20210916T212834Z
UID:10349-1645032600-1645039800@cmcb.org
SUMMARY:Voice Department Open Studios
DESCRIPTION:Voice Department Open Studios: Weds Feb 16 – 5:30-7:30PM\nThis will be a cross-studio master class format for Voice Students preparing for Evaluations \nSpring Voice Recital: Sun May 22 – 2PM
URL:https://cmcb.org/event/voice-department-open-studios/
LOCATION:Community Music Center of Boston\, 34 Warren Ave\, Boston\, MA\, 02116\, United States
CATEGORIES:Community Music School,Recitals/Workshops
END:VEVENT
BEGIN:VEVENT
DTSTART;TZID=UTC:20220205T090000
DTEND;TZID=UTC:20220205T170000
DTSTAMP:20260419T130102
CREATED:20210721T152104Z
LAST-MODIFIED:20211022T210317Z
UID:10199-1644051600-1644080400@cmcb.org
SUMMARY:Fall Performathon
DESCRIPTION:
URL:https://cmcb.org/event/fall-performathon-2021/
LOCATION:Community Music Center of Boston\, 34 Warren Ave\, Boston\, MA\, 02116\, United States
CATEGORIES:Special Events
END:VEVENT
BEGIN:VEVENT
DTSTART;TZID=UTC:20220123T140000
DTEND;TZID=UTC:20220123T150000
DTSTAMP:20260419T130102
CREATED:20210916T212717Z
LAST-MODIFIED:20210916T212717Z
UID:10348-1642946400-1642950000@cmcb.org
SUMMARY:Winter Voice Recital
DESCRIPTION:Winter Voice Recital: Sun Jan 23 – 2PM \nVoice Department Open Studios: Weds Feb 16 – 5:30-7:30PM\nThis will be a cross-studio master class format for Voice Students preparing for Evaluations \nSpring Voice Recital: Sun May 22 – 2PM
URL:https://cmcb.org/event/winter-voice-recital/
LOCATION:Community Music Center of Boston\, 34 Warren Ave\, Boston\, MA\, 02116\, United States
CATEGORIES:Community Music School,Recitals/Workshops
END:VEVENT
BEGIN:VEVENT
DTSTART;TZID=UTC:20211215T170000
DTEND;TZID=UTC:20211215T180000
DTSTAMP:20260419T130102
CREATED:20210916T212603Z
LAST-MODIFIED:20210916T212603Z
UID:10347-1639587600-1639591200@cmcb.org
SUMMARY:ECH Fall Culminating Event
DESCRIPTION:ECH Fall Culminating Events\nMonday: December 13\, 5-6PM\nTuesday: December 14\, 5-6PM\nWednesday: December 15\, 5-6PM \nWinter Voice Recital: Sun Jan 23 – 2PM \nVoice Department Open Studios: Weds Feb 16 – 5:30-7:30PM\nThis will be a cross-studio master class format for Voice Students preparing for Evaluations \nECH Spring Culminating Events\nMonday: May 16\, 5-6PM\nTuesday: May 17\, 5-6PM\nWednesday: May 18\, 5-6PM \nSpring Voice Recital: Sun May 22 – 2PM
URL:https://cmcb.org/event/ech-fall-culminating-event-3/
LOCATION:Community Music Center of Boston\, 34 Warren Ave\, Boston\, MA\, 02116\, United States
CATEGORIES:Community Music School,Recitals/Workshops
END:VEVENT
BEGIN:VEVENT
DTSTART;TZID=UTC:20211214T170000
DTEND;TZID=UTC:20211214T180000
DTSTAMP:20260419T130102
CREATED:20210916T212516Z
LAST-MODIFIED:20210916T212516Z
UID:10346-1639501200-1639504800@cmcb.org
SUMMARY:ECH Fall Culminating Event
DESCRIPTION:ECH Fall Culminating Events\nMonday: December 13\, 5-6PM\nTuesday: December 14\, 5-6PM\nWednesday: December 15\, 5-6PM \nWinter Voice Recital: Sun Jan 23 – 2PM \nVoice Department Open Studios: Weds Feb 16 – 5:30-7:30PM\nThis will be a cross-studio master class format for Voice Students preparing for Evaluations \nECH Spring Culminating Events\nMonday: May 16\, 5-6PM\nTuesday: May 17\, 5-6PM\nWednesday: May 18\, 5-6PM \nSpring Voice Recital: Sun May 22 – 2PM
URL:https://cmcb.org/event/ech-fall-culminating-event-2/
LOCATION:Community Music Center of Boston\, 34 Warren Ave\, Boston\, MA\, 02116\, United States
CATEGORIES:Community Music School,Recitals/Workshops
END:VEVENT
BEGIN:VEVENT
DTSTART;TZID=UTC:20211213T170000
DTEND;TZID=UTC:20211213T180000
DTSTAMP:20260419T130102
CREATED:20210916T212318Z
LAST-MODIFIED:20210916T212428Z
UID:10345-1639414800-1639418400@cmcb.org
SUMMARY:ECH Fall Culminating Event
DESCRIPTION:ECH Fall Culminating Events\nMonday: December 13\, 5-6PM\nTuesday: December 14\, 5-6PM\nWednesday: December 15\, 5-6PM \nWinter Voice Recital: Sun Jan 23 – 2PM \nVoice Department Open Studios: Weds Feb 16 – 5:30-7:30PM\nThis will be a cross-studio master class format for Voice Students preparing for Evaluations \nECH Spring Culminating Events\nMonday: May 16\, 5-6PM\nTuesday: May 17\, 5-6PM\nWednesday: May 18\, 5-6PM \nSpring Voice Recital: Sun May 22 – 2PM
URL:https://cmcb.org/event/ech-fall-culminating-event/
LOCATION:Community Music Center of Boston\, 34 Warren Ave\, Boston\, MA\, 02116\, United States
CATEGORIES:Community Music School,Recitals/Workshops
END:VEVENT
BEGIN:VEVENT
DTSTART;VALUE=DATE:20210918
DTEND;VALUE=DATE:20210919
DTSTAMP:20260419T130102
CREATED:20210721T151914Z
LAST-MODIFIED:20210721T152028Z
UID:10198-1631923200-1632009599@cmcb.org
SUMMARY:Ensembles/Seminars/Theory Begin
DESCRIPTION:
URL:https://cmcb.org/event/ensembles-seminars-theory-begin/
LOCATION:Community Music Center of Boston\, 34 Warren Ave\, Boston\, MA\, 02116\, United States
CATEGORIES:Community Music School
END:VEVENT
BEGIN:VEVENT
DTSTART;VALUE=DATE:20210522
DTEND;VALUE=DATE:20210523
DTSTAMP:20260419T130102
CREATED:20210325T185828Z
LAST-MODIFIED:20210325T190716Z
UID:9771-1621641600-1621727999@cmcb.org
SUMMARY:Fall Pre-Registration Opens
DESCRIPTION:For Current Students
URL:https://cmcb.org/event/fall-pre-registration-opens/
LOCATION:Community Music Center of Boston\, 34 Warren Ave\, Boston\, MA\, 02116\, United States
CATEGORIES:Community Music School
END:VEVENT
BEGIN:VEVENT
DTSTART;VALUE=DATE:20210412
DTEND;VALUE=DATE:20210413
DTSTAMP:20260419T130102
CREATED:20210325T190142Z
LAST-MODIFIED:20210325T190631Z
UID:9773-1618185600-1618271999@cmcb.org
SUMMARY:Summer Registration Opens
DESCRIPTION:
URL:https://cmcb.org/event/summer-registration-opens/
LOCATION:Community Music Center of Boston\, 34 Warren Ave\, Boston\, MA\, 02116\, United States
CATEGORIES:Community Music School
END:VEVENT
BEGIN:VEVENT
DTSTART;TZID=UTC:20210225T190000
DTEND;TZID=UTC:20210225T203000
DTSTAMP:20260419T130102
CREATED:20210128T160158Z
LAST-MODIFIED:20210128T160257Z
UID:9660-1614279600-1614285000@cmcb.org
SUMMARY:Francesca Anderegg
DESCRIPTION:Named in memory of John Kleshinski\, former CMCB Board President and student\, this series provides access to high-quality musical performances for all\, aiming to present a diverse sampling of instruments and genres. Past performances have included The Piano Sonatas of George Walker played by Dr. Redi Llupa and Spanning the Centuries\, three works by women composers.
URL:https://cmcb.org/event/francesca-anderegg/
LOCATION:Community Music Center of Boston\, 34 Warren Ave\, Boston\, MA\, 02116\, United States
CATEGORIES:John Kleshinski Concert Series
END:VEVENT
BEGIN:VEVENT
DTSTART;VALUE=DATE:20201113
DTEND;VALUE=DATE:20201114
DTSTAMP:20260419T130102
CREATED:20201001T161925Z
LAST-MODIFIED:20201001T161925Z
UID:9297-1605225600-1605311999@cmcb.org
SUMMARY:Office Cleaning
DESCRIPTION:On Fridays\, our offices will be deep cleaned. Staff will work remotely\, and we will not accept in-person visitors.
URL:https://cmcb.org/event/office-cleaning-9/
LOCATION:Community Music Center of Boston\, 34 Warren Ave\, Boston\, MA\, 02116\, United States
CATEGORIES:Holidays/Closings
END:VEVENT
BEGIN:VEVENT
DTSTART;TZID=UTC:20201112T173000
DTEND;TZID=UTC:20201112T190000
DTSTAMP:20260419T130102
CREATED:20201110T181348Z
LAST-MODIFIED:20201110T181348Z
UID:9502-1605202200-1605207600@cmcb.org
SUMMARY:Community Conversations: Interrogating Musical "Quality"
DESCRIPTION:Can culturally-responsive music education lead to excellence? \nMusicians work tirelessly to bring their artistry and technique to the highest levels possible. But as the music field delves into issues of inclusion and equity\, the words “quality” and “excellence” are often mentioned in response\, as though in opposition. As we begin to use expressions such as “learner-centered” and “culturally-responsive” to define our vision for the future\, this Community Conversation will offer a fuller understanding of these words that both respects and describes art and artists in the 21st century. \nRSVP: https://www.eventbrite.com/e/126305496139
URL:https://cmcb.org/event/community-conversations-interrogating-musical-quality/
LOCATION:Community Music Center of Boston\, 34 Warren Ave\, Boston\, MA\, 02116\, United States
CATEGORIES:Community Conversations
END:VEVENT
BEGIN:VEVENT
DTSTART;VALUE=DATE:20201106
DTEND;VALUE=DATE:20201107
DTSTAMP:20260419T130102
CREATED:20200901T132043Z
LAST-MODIFIED:20201001T161801Z
UID:8909-1604620800-1604707199@cmcb.org
SUMMARY:Office Cleaning
DESCRIPTION:On Fridays\, our offices will be deep cleaned. Staff will work remotely\, and we will not accept in-person visitors.
URL:https://cmcb.org/event/office-cleaning/
LOCATION:Community Music Center of Boston\, 34 Warren Ave\, Boston\, MA\, 02116\, United States
CATEGORIES:Holidays/Closings
END:VEVENT
BEGIN:VEVENT
DTSTART;VALUE=DATE:20200925
DTEND;VALUE=DATE:20200926
DTSTAMP:20260419T130102
CREATED:20200901T132151Z
LAST-MODIFIED:20200922T160609Z
UID:8911-1600992000-1601078399@cmcb.org
SUMMARY:Office Cleaning
DESCRIPTION:On Fridays\, our offices will be deep cleaned. Staff will work remotely\, and we will not accept in-person visitors.
URL:https://cmcb.org/event/office-cleaning-3/
LOCATION:Community Music Center of Boston\, 34 Warren Ave\, Boston\, MA\, 02116\, United States
CATEGORIES:Holidays/Closings
END:VEVENT
END:VCALENDAR