BEGIN:VCALENDAR
VERSION:2.0
PRODID:-//Community Music Center of Boston - ECPv6.15.20//NONSGML v1.0//EN
CALSCALE:GREGORIAN
METHOD:PUBLISH
X-WR-CALNAME:Community Music Center of Boston
X-ORIGINAL-URL:https://cmcb.org
X-WR-CALDESC:Events for Community Music Center of Boston
REFRESH-INTERVAL;VALUE=DURATION:PT1H
X-Robots-Tag:noindex
X-PUBLISHED-TTL:PT1H
BEGIN:VTIMEZONE
TZID:UTC
BEGIN:STANDARD
TZOFFSETFROM:+0000
TZOFFSETTO:+0000
TZNAME:UTC
DTSTART:20230101T000000
END:STANDARD
END:VTIMEZONE
BEGIN:VEVENT
DTSTART;TZID=UTC:20241125T000000
DTEND;TZID=UTC:20241126T235959
DTSTAMP:20260423T142953
CREATED:20240914T193449Z
LAST-MODIFIED:20240914T202958Z
UID:12472-1732492800-1732665599@cmcb.org
SUMMARY:NO ECH/ELEM Classes
DESCRIPTION:
URL:https://cmcb.org/event/no-ech-elem-classes/
CATEGORIES:Announcements,Community Music School
END:VEVENT
END:VCALENDAR