BEGIN:VCALENDAR
VERSION:2.0
PRODID:-//Community Music Center of Boston - ECPv6.15.20//NONSGML v1.0//EN
CALSCALE:GREGORIAN
METHOD:PUBLISH
X-ORIGINAL-URL:https://cmcb.org
X-WR-CALDESC:Events for Community Music Center of Boston
REFRESH-INTERVAL;VALUE=DURATION:PT1H
X-Robots-Tag:noindex
X-PUBLISHED-TTL:PT1H
BEGIN:VTIMEZONE
TZID:UTC
BEGIN:STANDARD
TZOFFSETFROM:+0000
TZOFFSETTO:+0000
TZNAME:UTC
DTSTART:20230101T000000
END:STANDARD
END:VTIMEZONE
BEGIN:VEVENT
DTSTART;TZID=UTC:20240907T000000
DTEND;TZID=UTC:20240907T235959
DTSTAMP:20260423T143327
CREATED:20240816T142948Z
LAST-MODIFIED:20240830T205648Z
UID:12396-1725667200-1725753599@cmcb.org
SUMMARY:First Day of CMS Private Lessons
DESCRIPTION:
URL:https://cmcb.org/event/first-day-of-cms-private-lessons/
LOCATION:Community Music Center of Boston\, 34 Warren Ave\, Boston\, MA\, 02116\, United States
CATEGORIES:Community Music School
ATTACH;FMTTYPE=image/jpeg:https://cmcb.org/wp-content/uploads/2024/05/CMCB-9-9-23-RueSakayama-115-e1715279926500.jpg
END:VEVENT
BEGIN:VEVENT
DTSTART;TZID=UTC:20240907T123000
DTEND;TZID=UTC:20240907T143000
DTSTAMP:20260423T143327
CREATED:20240830T205423Z
LAST-MODIFIED:20240830T205424Z
UID:12428-1725712200-1725719400@cmcb.org
SUMMARY:Student and Family Orientation
DESCRIPTION:Mark your calendars! Student and Family Orientation will be held on Saturday\, September 7\, 2024! CMCB welcomes all families to meet faculty and staff and explore the space where exciting musical growth happens.  \n\n\n\nJoin us from 12:30-2:30 pm\, for an info session\, fun activities\, games\, schedule orientations\, and more!
URL:https://cmcb.org/event/student-and-family-orientation-2/
CATEGORIES:Community Music School
ATTACH;FMTTYPE=image/jpeg:https://cmcb.org/wp-content/uploads/2024/08/CMCB-9-9-23-RueSakayama-54.jpg
END:VEVENT
END:VCALENDAR