BEGIN:VCALENDAR
VERSION:2.0
PRODID:-//Community Music Center of Boston - ECPv6.15.20//NONSGML v1.0//EN
CALSCALE:GREGORIAN
METHOD:PUBLISH
X-ORIGINAL-URL:https://cmcb.org
X-WR-CALDESC:Events for Community Music Center of Boston
REFRESH-INTERVAL;VALUE=DURATION:PT1H
X-Robots-Tag:noindex
X-PUBLISHED-TTL:PT1H
BEGIN:VTIMEZONE
TZID:UTC
BEGIN:STANDARD
TZOFFSETFROM:+0000
TZOFFSETTO:+0000
TZNAME:UTC
DTSTART:20230101T000000
END:STANDARD
END:VTIMEZONE
BEGIN:VEVENT
DTSTART;TZID=UTC:20240906T160000
DTEND;TZID=UTC:20240906T160000
DTSTAMP:20260423T143306
CREATED:20240830T205143Z
LAST-MODIFIED:20240830T205144Z
UID:12426-1725638400-1725638400@cmcb.org
SUMMARY:Fall Open House
DESCRIPTION:Join us for an evening of fellowship on Friday\, September 6th. This event is a great opportunity to meet your teacher and learn more about our growing community! \n\n\n\nThe Open House begins at 4:00 pm. We can’t wait to welcome you!
URL:https://cmcb.org/event/fall-open-house/
CATEGORIES:Community Music School
ATTACH;FMTTYPE=image/jpeg:https://cmcb.org/wp-content/uploads/2024/08/CMCB-9-9-23-RueSakayama-72.jpg
END:VEVENT
END:VCALENDAR